BEGIN:VCALENDAR
VERSION:2.0
PRODID:icalendar-ruby
CALSCALE:GREGORIAN
METHOD:PUBLISH
BEGIN:VEVENT
DTSTAMP:20260425T194825Z
UID:3-1171133@pleasantview.tithelysetup5.com
DTSTART:20261025T183000Z
DTEND:20261025T194500Z
CLASS:PUBLIC
CREATED:20260425T120050
DESCRIPTION:Pathways is an adult Bible Study that meets after our worship t
 ime on Sundays.  Led by Lionel and JoAn Yetter
LAST-MODIFIED:20260425T120050
LOCATION:At the Church
SUMMARY:Pathways (Adult Bible Study)
URL;VALUE=URI:https://footprints.church/events/pathways-adult-bible-study/2
 026-10-25
ATTACH;FILENAME=ben-white-292680-unsplash.jpg;FMTTYPE=image/jpeg:https://dq
 5pwpg1q8ru0.cloudfront.net/2020/10/13/10/27/23/577317ad-cbab-4521-89a4-dde
 6c8c92dc5/ben-white-292680-unsplash.jpg
END:VEVENT
END:VCALENDAR
