BEGIN:VCALENDAR
VERSION:2.0
PRODID:icalendar-ruby
CALSCALE:GREGORIAN
METHOD:PUBLISH
BEGIN:VEVENT
DTSTAMP:20260422T092205Z
UID:5-1157543@pleasantview.tithelysetup5.com
DTSTART:20261025T170000Z
DTEND:20261025T181500Z
CLASS:PUBLIC
CREATED:20260421T170342
DESCRIPTION:
LAST-MODIFIED:20260421T170342
LOCATION:At the Church
SUMMARY:Sunday Worship Celebration
URL;VALUE=URI:https://footprints.church/events/sunday-worship-celebration/2
 026-10-25
END:VEVENT
END:VCALENDAR
