BEGIN:VCALENDAR
VERSION:2.0
PRODID:icalendar-ruby
CALSCALE:GREGORIAN
METHOD:PUBLISH
BEGIN:VEVENT
DTSTAMP:20260422T105714Z
UID:5-1157544@pleasantview.tithelysetup5.com
DTSTART:20261101T180000Z
DTEND:20261101T191500Z
CLASS:PUBLIC
CREATED:20260421T170342
DESCRIPTION:
LAST-MODIFIED:20260421T170342
LOCATION:At the Church
SUMMARY:Sunday Worship Celebration
URL;VALUE=URI:https://footprints.church/events/sunday-worship-celebration/2
 026-11-01
END:VEVENT
END:VCALENDAR
